BEGIN:VCALENDAR
VERSION:2.0
PRODID:-//Canoe Club Wine Bar - ECPv6.15.18//NONSGML v1.0//EN
CALSCALE:GREGORIAN
METHOD:PUBLISH
X-ORIGINAL-URL:https://canoeclubwinebar.com
X-WR-CALDESC:Events for Canoe Club Wine Bar
REFRESH-INTERVAL;VALUE=DURATION:PT1H
X-Robots-Tag:noindex
X-PUBLISHED-TTL:PT1H
BEGIN:VTIMEZONE
TZID:UTC
BEGIN:STANDARD
TZOFFSETFROM:+0000
TZOFFSETTO:+0000
TZNAME:UTC
DTSTART:20250101T000000
END:STANDARD
END:VTIMEZONE
BEGIN:VEVENT
DTSTART;TZID=UTC:20260326T180000
DTEND;TZID=UTC:20260326T200000
DTSTAMP:20260425T111202
CREATED:20260320T164849Z
LAST-MODIFIED:20260320T165020Z
UID:10000274-1774548000-1774555200@canoeclubwinebar.com
SUMMARY:Spring Wine Tasting
DESCRIPTION:Join us for our Spring Wine Tasting on Thursday\, March 26 from 6-8 PM! Six different food and wine pairings for only $35 per person! \nTO RSVP\, please TEXT Alix at 304-389-3732 or CALL the restaurant at 419-960-7030
URL:https://canoeclubwinebar.com/event/spring-wine-tasting/
CATEGORIES:Wine Tastings
ATTACH;FMTTYPE=image/jpeg:https://canoeclubwinebar.com/wp-content/uploads/2026/03/cc-spring-wine-tasting.jpg
END:VEVENT
END:VCALENDAR