BEGIN:VCALENDAR
VERSION:2.0
PRODID:-//Canoe Club Wine Bar - ECPv6.15.18//NONSGML v1.0//EN
CALSCALE:GREGORIAN
METHOD:PUBLISH
X-WR-CALNAME:Canoe Club Wine Bar
X-ORIGINAL-URL:https://canoeclubwinebar.com
X-WR-CALDESC:Events for Canoe Club Wine Bar
REFRESH-INTERVAL;VALUE=DURATION:PT1H
X-Robots-Tag:noindex
X-PUBLISHED-TTL:PT1H
BEGIN:VTIMEZONE
TZID:UTC
BEGIN:STANDARD
TZOFFSETFROM:+0000
TZOFFSETTO:+0000
TZNAME:UTC
DTSTART:20250101T000000
END:STANDARD
END:VTIMEZONE
BEGIN:VEVENT
DTSTART;TZID=UTC:20260517T180000
DTEND;TZID=UTC:20260517T210000
DTSTAMP:20260420T185757
CREATED:20260218T175813Z
LAST-MODIFIED:20260218T175813Z
UID:10000250-1779040800-1779051600@canoeclubwinebar.com
SUMMARY:Live Music by Nathan Henry
DESCRIPTION:Join us on Sunday\, May 17th from 6-9PM for live music by Nathan Henry! Click here for more information on Nathan Henry
URL:https://canoeclubwinebar.com/event/live-music-by-nathan-henry-051726/
CATEGORIES:Live Music
ATTACH;FMTTYPE=image/jpeg:https://canoeclubwinebar.com/wp-content/uploads/2022/05/nathan-henry.jpg
END:VEVENT
END:VCALENDAR