BEGIN:VCALENDAR
VERSION:2.0
PRODID:-//Canoe Club Wine Bar - ECPv6.15.18//NONSGML v1.0//EN
CALSCALE:GREGORIAN
METHOD:PUBLISH
X-WR-CALNAME:Canoe Club Wine Bar
X-ORIGINAL-URL:https://canoeclubwinebar.com
X-WR-CALDESC:Events for Canoe Club Wine Bar
REFRESH-INTERVAL;VALUE=DURATION:PT1H
X-Robots-Tag:noindex
X-PUBLISHED-TTL:PT1H
BEGIN:VTIMEZONE
TZID:UTC
BEGIN:STANDARD
TZOFFSETFROM:+0000
TZOFFSETTO:+0000
TZNAME:UTC
DTSTART:20250101T000000
END:STANDARD
END:VTIMEZONE
BEGIN:VEVENT
DTSTART;TZID=UTC:20260510T180000
DTEND;TZID=UTC:20260510T210000
DTSTAMP:20260422T141924
CREATED:20260218T180531Z
LAST-MODIFIED:20260218T180531Z
UID:10000263-1778436000-1778446800@canoeclubwinebar.com
SUMMARY:Live Music with Jake Heil
DESCRIPTION:Join us on Sunday\, May 10th from 6-9PM for live music by Jake Heil! Click here for more information on Jake Heil 
URL:https://canoeclubwinebar.com/event/live-music-with-jake-heil-051026/
LOCATION:Canoe Club Wine Bar\, 5831 E Harbor Rd\, Lakeside Marblehead\, OH\, 43440\, United States
CATEGORIES:Live Music
ATTACH;FMTTYPE=image/jpeg:https://canoeclubwinebar.com/wp-content/uploads/2022/05/jake-heil.jpg
END:VEVENT
END:VCALENDAR