BEGIN:VCALENDAR
VERSION:2.0
PRODID:-//Canoe Club Wine Bar - ECPv6.15.18//NONSGML v1.0//EN
CALSCALE:GREGORIAN
METHOD:PUBLISH
X-ORIGINAL-URL:https://canoeclubwinebar.com
X-WR-CALDESC:Events for Canoe Club Wine Bar
REFRESH-INTERVAL;VALUE=DURATION:PT1H
X-Robots-Tag:noindex
X-PUBLISHED-TTL:PT1H
BEGIN:VTIMEZONE
TZID:UTC
BEGIN:STANDARD
TZOFFSETFROM:+0000
TZOFFSETTO:+0000
TZNAME:UTC
DTSTART:20250101T000000
END:STANDARD
END:VTIMEZONE
BEGIN:VEVENT
DTSTART;TZID=UTC:20260503T180000
DTEND;TZID=UTC:20260503T210000
DTSTAMP:20260420T185234
CREATED:20260218T180316Z
LAST-MODIFIED:20260218T182152Z
UID:10000259-1777831200-1777842000@canoeclubwinebar.com
SUMMARY:Live Music with Abbigale Rose
DESCRIPTION:Join us on Sunday\, May 3rd from 6-9PM for live music by Abbigale Rose! Click here for more information on Abbigale Rose
URL:https://canoeclubwinebar.com/event/live-music-with-abbigale-rose-050326/
ATTACH;FMTTYPE=image/jpeg:https://canoeclubwinebar.com/wp-content/uploads/2022/05/a-rose.jpg
END:VEVENT
END:VCALENDAR