BEGIN:VCALENDAR
VERSION:2.0
PRODID:-//Canoe Club Wine Bar - ECPv6.15.18//NONSGML v1.0//EN
CALSCALE:GREGORIAN
METHOD:PUBLISH
X-ORIGINAL-URL:https://canoeclubwinebar.com
X-WR-CALDESC:Events for Canoe Club Wine Bar
REFRESH-INTERVAL;VALUE=DURATION:PT1H
X-Robots-Tag:noindex
X-PUBLISHED-TTL:PT1H
BEGIN:VTIMEZONE
TZID:UTC
BEGIN:STANDARD
TZOFFSETFROM:+0000
TZOFFSETTO:+0000
TZNAME:UTC
DTSTART:20220101T000000
END:STANDARD
END:VTIMEZONE
BEGIN:VEVENT
DTSTART;TZID=UTC:20230813T180000
DTEND;TZID=UTC:20230813T210000
DTSTAMP:20260422T130530
CREATED:20230220T193235Z
LAST-MODIFIED:20230220T193235Z
UID:10000117-1691949600-1691960400@canoeclubwinebar.com
SUMMARY:Live Music with Johnny Rod
DESCRIPTION:Join us on Sunday\, August 13th from 6-9PM for live music by Johnny Rod! Click here for more information on Johnny Rod  
URL:https://canoeclubwinebar.com/event/live-music-with-johnny-rod-0813/
LOCATION:Canoe Club Wine Bar\, 5831 E Harbor Rd\, Lakeside Marblehead\, OH\, 43440\, United States
ATTACH;FMTTYPE=image/jpeg:https://canoeclubwinebar.com/wp-content/uploads/2022/05/johnnyrod.jpg
END:VEVENT
END:VCALENDAR